BEGIN:VCALENDAR
VERSION:2.0
PRODID:-//St Johannes Schneiderkrug - ECPv6.15.20//NONSGML v1.0//EN
CALSCALE:GREGORIAN
METHOD:PUBLISH
X-ORIGINAL-URL:https://schuetzen-schneiderkrug.de
X-WR-CALDESC:Veranstaltungen für St Johannes Schneiderkrug
REFRESH-INTERVAL;VALUE=DURATION:PT1H
X-Robots-Tag:noindex
X-PUBLISHED-TTL:PT1H
BEGIN:VTIMEZONE
TZID:Europe/Berlin
BEGIN:DAYLIGHT
TZOFFSETFROM:+0100
TZOFFSETTO:+0200
TZNAME:CEST
DTSTART:20250330T010000
END:DAYLIGHT
BEGIN:STANDARD
TZOFFSETFROM:+0200
TZOFFSETTO:+0100
TZNAME:CET
DTSTART:20251026T010000
END:STANDARD
BEGIN:DAYLIGHT
TZOFFSETFROM:+0100
TZOFFSETTO:+0200
TZNAME:CEST
DTSTART:20260329T010000
END:DAYLIGHT
BEGIN:STANDARD
TZOFFSETFROM:+0200
TZOFFSETTO:+0100
TZNAME:CET
DTSTART:20261025T010000
END:STANDARD
BEGIN:DAYLIGHT
TZOFFSETFROM:+0100
TZOFFSETTO:+0200
TZNAME:CEST
DTSTART:20270328T010000
END:DAYLIGHT
BEGIN:STANDARD
TZOFFSETFROM:+0200
TZOFFSETTO:+0100
TZNAME:CET
DTSTART:20271031T010000
END:STANDARD
END:VTIMEZONE
BEGIN:VEVENT
DTSTART;TZID=Europe/Berlin:20260308T103000
DTEND;TZID=Europe/Berlin:20260308T103000
DTSTAMP:20260424T153547
CREATED:20260102T175854Z
LAST-MODIFIED:20260102T182001Z
UID:2020-1772965800-1772965800@schuetzen-schneiderkrug.de
SUMMARY:Friedensgottesdienst
DESCRIPTION:
URL:https://schuetzen-schneiderkrug.de/termin/friedensgottesdienst-4
END:VEVENT
BEGIN:VEVENT
DTSTART;TZID=Europe/Berlin:20260312T000000
DTEND;TZID=Europe/Berlin:20260316T000000
DTSTAMP:20260424T153547
CREATED:20260102T175855Z
LAST-MODIFIED:20260102T182001Z
UID:2021-1773273600-1773619200@schuetzen-schneiderkrug.de
SUMMARY:Bezirksmeisterschaften VEC
DESCRIPTION:
URL:https://schuetzen-schneiderkrug.de/termin/bezirksmeisterschaften-vec-6
END:VEVENT
BEGIN:VEVENT
DTSTART;TZID=Europe/Berlin:20260314T090000
DTEND;TZID=Europe/Berlin:20260314T090000
DTSTAMP:20260424T153547
CREATED:20260102T175855Z
LAST-MODIFIED:20260102T182002Z
UID:2022-1773478800-1773478800@schuetzen-schneiderkrug.de
SUMMARY:gemeindeweiter Umwelttag
DESCRIPTION:
URL:https://schuetzen-schneiderkrug.de/termin/gemeindeweiter-umwelttag-7
END:VEVENT
BEGIN:VEVENT
DTSTART;TZID=Europe/Berlin:20260322T000000
DTEND;TZID=Europe/Berlin:20260322T000000
DTSTAMP:20260424T153547
CREATED:20260102T175856Z
LAST-MODIFIED:20260102T182003Z
UID:2024-1774137600-1774137600@schuetzen-schneiderkrug.de
SUMMARY:Bundesvertreterversammlung
DESCRIPTION:
URL:https://schuetzen-schneiderkrug.de/termin/bundesvertreterversammlung-4
END:VEVENT
BEGIN:VEVENT
DTSTART;TZID=Europe/Berlin:20260322T140000
DTEND;TZID=Europe/Berlin:20260322T140000
DTSTAMP:20260424T153547
CREATED:20260102T175855Z
LAST-MODIFIED:20260102T182003Z
UID:2023-1774188000-1774188000@schuetzen-schneiderkrug.de
SUMMARY:Gemeinde-Kinderpokal-Königschießen
DESCRIPTION:
URL:https://schuetzen-schneiderkrug.de/termin/gemeinde-kinderpokal-koenigschiessen-2
END:VEVENT
END:VCALENDAR