BEGIN:VCALENDAR
VERSION:2.0
PRODID:-//St Johannes Schneiderkrug - ECPv6.15.20//NONSGML v1.0//EN
CALSCALE:GREGORIAN
METHOD:PUBLISH
X-ORIGINAL-URL:https://schuetzen-schneiderkrug.de
X-WR-CALDESC:Veranstaltungen für St Johannes Schneiderkrug
REFRESH-INTERVAL;VALUE=DURATION:PT1H
X-Robots-Tag:noindex
X-PUBLISHED-TTL:PT1H
BEGIN:VTIMEZONE
TZID:Europe/Berlin
BEGIN:DAYLIGHT
TZOFFSETFROM:+0100
TZOFFSETTO:+0200
TZNAME:CEST
DTSTART:20250330T010000
END:DAYLIGHT
BEGIN:STANDARD
TZOFFSETFROM:+0200
TZOFFSETTO:+0100
TZNAME:CET
DTSTART:20251026T010000
END:STANDARD
BEGIN:DAYLIGHT
TZOFFSETFROM:+0100
TZOFFSETTO:+0200
TZNAME:CEST
DTSTART:20260329T010000
END:DAYLIGHT
BEGIN:STANDARD
TZOFFSETFROM:+0200
TZOFFSETTO:+0100
TZNAME:CET
DTSTART:20261025T010000
END:STANDARD
BEGIN:DAYLIGHT
TZOFFSETFROM:+0100
TZOFFSETTO:+0200
TZNAME:CEST
DTSTART:20270328T010000
END:DAYLIGHT
BEGIN:STANDARD
TZOFFSETFROM:+0200
TZOFFSETTO:+0100
TZNAME:CET
DTSTART:20271031T010000
END:STANDARD
BEGIN:DAYLIGHT
TZOFFSETFROM:+0100
TZOFFSETTO:+0200
TZNAME:CEST
DTSTART:20280326T010000
END:DAYLIGHT
BEGIN:STANDARD
TZOFFSETFROM:+0200
TZOFFSETTO:+0100
TZNAME:CET
DTSTART:20281029T010000
END:STANDARD
END:VTIMEZONE
BEGIN:VEVENT
DTSTART;TZID=Europe/Berlin:20260725T170000
DTEND;TZID=Europe/Berlin:20260725T170000
DTSTAMP:20260424T141723
CREATED:20260209T115027Z
LAST-MODIFIED:20260209T115027Z
UID:2206-1784998800-1784998800@schuetzen-schneiderkrug.de
SUMMARY:1. Adler-Kinderkönigsschießen
DESCRIPTION:
URL:https://schuetzen-schneiderkrug.de/termin/1-adler-kinderkoenigsschiessen
END:VEVENT
BEGIN:VEVENT
DTSTART;TZID=Europe/Berlin:20260725T190000
DTEND;TZID=Europe/Berlin:20260725T190000
DTSTAMP:20260424T141723
CREATED:20260102T175954Z
LAST-MODIFIED:20260211T120828Z
UID:2036-1785006000-1785006000@schuetzen-schneiderkrug.de
SUMMARY:21. Adler-Königsschießen
DESCRIPTION:
URL:https://schuetzen-schneiderkrug.de/termin/21-adler-koenigsschiessen
LOCATION:Bühren\, Caspar-Schmitz-Straße 19\, Bühren\, 49685\, Germany
END:VEVENT
BEGIN:VEVENT
DTSTART;TZID=Europe/Berlin:20260728T190000
DTEND;TZID=Europe/Berlin:20260728T190000
DTSTAMP:20260424T141723
CREATED:20260102T175954Z
LAST-MODIFIED:20260102T182101Z
UID:2037-1785265200-1785265200@schuetzen-schneiderkrug.de
SUMMARY:Übungsabend Marsch und Gesang
DESCRIPTION:
URL:https://schuetzen-schneiderkrug.de/termin/uebungsabend-marsch-und-gesang-5
LOCATION:Bühren\, Caspar-Schmitz-Straße 19\, Bühren\, 49685\, Germany
END:VEVENT
BEGIN:VEVENT
DTSTART;TZID=Europe/Berlin:20260801T183000
DTEND;TZID=Europe/Berlin:20260801T183000
DTSTAMP:20260424T141723
CREATED:20260102T175955Z
LAST-MODIFIED:20260102T182101Z
UID:2038-1785609000-1785609000@schuetzen-schneiderkrug.de
SUMMARY:Festgottesdienst - Gefallenenehrung - Zapfenstreich
DESCRIPTION:
URL:https://schuetzen-schneiderkrug.de/termin/festgottesdienst-gefallenenehrung-zapfenstreich-5
LOCATION:Bühren\, Caspar-Schmitz-Straße 19\, Bühren\, 49685\, Germany
END:VEVENT
BEGIN:VEVENT
DTSTART;TZID=Europe/Berlin:20260801T203000
DTEND;TZID=Europe/Berlin:20260801T203000
DTSTAMP:20260424T141723
CREATED:20260102T175955Z
LAST-MODIFIED:20260102T182102Z
UID:2039-1785616200-1785616200@schuetzen-schneiderkrug.de
SUMMARY:Tanz
DESCRIPTION:
URL:https://schuetzen-schneiderkrug.de/termin/tanz-5
END:VEVENT
BEGIN:VEVENT
DTSTART;TZID=Europe/Berlin:20260802T144500
DTEND;TZID=Europe/Berlin:20260802T144500
DTSTAMP:20260424T141723
CREATED:20260102T175955Z
LAST-MODIFIED:20260102T182102Z
UID:2040-1785681900-1785681900@schuetzen-schneiderkrug.de
SUMMARY:Empang der Ehrengäste u. auswärtigen Vereine
DESCRIPTION:
URL:https://schuetzen-schneiderkrug.de/termin/empang-der-ehrengaeste-u-auswaertigen-vereine-3
LOCATION:Frieling\, Dorfstraße 3\, Bühren\, 49685
END:VEVENT
BEGIN:VEVENT
DTSTART;TZID=Europe/Berlin:20260802T150000
DTEND;TZID=Europe/Berlin:20260802T150000
DTSTAMP:20260424T141723
CREATED:20260102T180009Z
LAST-MODIFIED:20260102T182116Z
UID:2041-1785682800-1785682800@schuetzen-schneiderkrug.de
SUMMARY:Festumzug zum Schützenfest
DESCRIPTION:
URL:https://schuetzen-schneiderkrug.de/termin/festumzug-zum-schuetzenfest-4
END:VEVENT
BEGIN:VEVENT
DTSTART;TZID=Europe/Berlin:20260802T160000
DTEND;TZID=Europe/Berlin:20260802T160000
DTSTAMP:20260424T141723
CREATED:20260102T180009Z
LAST-MODIFIED:20260102T182116Z
UID:2042-1785686400-1785686400@schuetzen-schneiderkrug.de
SUMMARY:Begrüßung der Ehrengäste u. der neuen Majestäten
DESCRIPTION:
URL:https://schuetzen-schneiderkrug.de/termin/begruessung-der-ehrengaeste-u-der-neuen-majestaeten-3
END:VEVENT
BEGIN:VEVENT
DTSTART;TZID=Europe/Berlin:20260802T200000
DTEND;TZID=Europe/Berlin:20260802T200000
DTSTAMP:20260424T141723
CREATED:20260102T180009Z
LAST-MODIFIED:20260102T182116Z
UID:2043-1785700800-1785700800@schuetzen-schneiderkrug.de
SUMMARY:Königsball
DESCRIPTION:
URL:https://schuetzen-schneiderkrug.de/termin/koenigsball-4
END:VEVENT
BEGIN:VEVENT
DTSTART;TZID=Europe/Berlin:20260810T180000
DTEND;TZID=Europe/Berlin:20260810T180000
DTSTAMP:20260424T141723
CREATED:20260102T180010Z
LAST-MODIFIED:20260209T115258Z
UID:2044-1786384800-1786384800@schuetzen-schneiderkrug.de
SUMMARY:Schützenfest Ho-Ke-Bü
DESCRIPTION:Getränkedienst: Bühren
URL:https://schuetzen-schneiderkrug.de/termin/schuetzenfest-2
END:VEVENT
BEGIN:VEVENT
DTSTART;TZID=Europe/Berlin:20260814T180000
DTEND;TZID=Europe/Berlin:20260814T180000
DTSTAMP:20260424T141723
CREATED:20260102T180010Z
LAST-MODIFIED:20260102T182116Z
UID:2045-1786730400-1786730400@schuetzen-schneiderkrug.de
SUMMARY:Landesbezirkskönigschießen
DESCRIPTION:Getränkedienst: Damen
URL:https://schuetzen-schneiderkrug.de/termin/landesbezirkskoenigschiessen-3
END:VEVENT
BEGIN:VEVENT
DTSTART;TZID=Europe/Berlin:20260816T150000
DTEND;TZID=Europe/Berlin:20260816T150000
DTSTAMP:20260424T141723
CREATED:20260209T115443Z
LAST-MODIFIED:20260209T115443Z
UID:2209-1786892400-1786892400@schuetzen-schneiderkrug.de
SUMMARY:Schützenfest Huntlosen
DESCRIPTION:Getränkedienst: Drantum
URL:https://schuetzen-schneiderkrug.de/termin/schuetzenfest-huntlosen-4
END:VEVENT
BEGIN:VEVENT
DTSTART;TZID=Europe/Berlin:20260828T190000
DTEND;TZID=Europe/Berlin:20260828T190000
DTSTAMP:20260424T141723
CREATED:20260102T180024Z
LAST-MODIFIED:20260209T115546Z
UID:2046-1787943600-1787943600@schuetzen-schneiderkrug.de
SUMMARY:Gemeindepokalschießen
DESCRIPTION:Getränkedienst: Repke
URL:https://schuetzen-schneiderkrug.de/termin/gemeindepokalschiessen-5
END:VEVENT
BEGIN:VEVENT
DTSTART;TZID=Europe/Berlin:20260906T133000
DTEND;TZID=Europe/Berlin:20260906T133000
DTSTAMP:20260424T141723
CREATED:20260102T180024Z
LAST-MODIFIED:20260102T182131Z
UID:2047-1788701400-1788701400@schuetzen-schneiderkrug.de
SUMMARY:Landesbezirksschüler- u. Prinzenschießen
DESCRIPTION:
URL:https://schuetzen-schneiderkrug.de/termin/landesbezirksschueler-u-prinzenschiessen-5
END:VEVENT
BEGIN:VEVENT
DTSTART;TZID=Europe/Berlin:20260911T000000
DTEND;TZID=Europe/Berlin:20260913T000000
DTSTAMP:20260424T141723
CREATED:20260102T180025Z
LAST-MODIFIED:20260209T115712Z
UID:2048-1789084800-1789257600@schuetzen-schneiderkrug.de
SUMMARY:Bundesfest
DESCRIPTION:Getränkedienst: Schneiderkrug
URL:https://schuetzen-schneiderkrug.de/termin/bundesfest-2
END:VEVENT
BEGIN:VEVENT
DTSTART;TZID=Europe/Berlin:20260926T133000
DTEND;TZID=Europe/Berlin:20260926T133000
DTSTAMP:20260424T141723
CREATED:20260102T180025Z
LAST-MODIFIED:20260209T115843Z
UID:2049-1790429400-1790429400@schuetzen-schneiderkrug.de
SUMMARY:Tellpokal-Königschießen
DESCRIPTION:
URL:https://schuetzen-schneiderkrug.de/termin/tellpokal-koenigschiessen-2
LOCATION:Bühren\, Caspar-Schmitz-Straße 19\, Bühren\, 49685\, Germany
END:VEVENT
BEGIN:VEVENT
DTSTART;TZID=Europe/Berlin:20261003T000000
DTEND;TZID=Europe/Berlin:20261003T000000
DTSTAMP:20260424T141723
CREATED:20260102T180039Z
LAST-MODIFIED:20260102T182146Z
UID:2050-1790985600-1790985600@schuetzen-schneiderkrug.de
SUMMARY:Bundesjungschützentag
DESCRIPTION:
URL:https://schuetzen-schneiderkrug.de/termin/bundesjungschuetzentag-2
END:VEVENT
BEGIN:VEVENT
DTSTART;TZID=Europe/Berlin:20261007T190000
DTEND;TZID=Europe/Berlin:20261007T190000
DTSTAMP:20260424T141723
CREATED:20260102T180039Z
LAST-MODIFIED:20260102T182146Z
UID:2051-1791399600-1791399600@schuetzen-schneiderkrug.de
SUMMARY:Vers. Jung-und Altschützenvorstände
DESCRIPTION:
URL:https://schuetzen-schneiderkrug.de/termin/vers-jung-und-altschuetzenvorstaende
END:VEVENT
BEGIN:VEVENT
DTSTART;TZID=Europe/Berlin:20261018T090000
DTEND;TZID=Europe/Berlin:20261018T090000
DTSTAMP:20260424T141723
CREATED:20260102T180040Z
LAST-MODIFIED:20260102T182146Z
UID:2052-1792314000-1792314000@schuetzen-schneiderkrug.de
SUMMARY:Fußwallfahrt
DESCRIPTION:
URL:https://schuetzen-schneiderkrug.de/termin/fusswallfahrt-4
END:VEVENT
BEGIN:VEVENT
DTSTART;TZID=Europe/Berlin:20261031T160000
DTEND;TZID=Europe/Berlin:20261031T160000
DTSTAMP:20260424T141723
CREATED:20260102T180040Z
LAST-MODIFIED:20260102T182146Z
UID:2053-1793462400-1793462400@schuetzen-schneiderkrug.de
SUMMARY:Vereinspokalschießen
DESCRIPTION:
URL:https://schuetzen-schneiderkrug.de/termin/vereinspokalschiessen-4
LOCATION:Bühren\, Caspar-Schmitz-Straße 19\, Bühren\, 49685\, Germany
END:VEVENT
BEGIN:VEVENT
DTSTART;TZID=Europe/Berlin:20261105T193000
DTEND;TZID=Europe/Berlin:20261105T193000
DTSTAMP:20260424T141723
CREATED:20260102T180054Z
LAST-MODIFIED:20260102T182201Z
UID:2055-1793907000-1793907000@schuetzen-schneiderkrug.de
SUMMARY:Bezirksversammlung VEC
DESCRIPTION:
URL:https://schuetzen-schneiderkrug.de/termin/bezirksversammlung-vec-6
END:VEVENT
BEGIN:VEVENT
DTSTART;TZID=Europe/Berlin:20261109T193000
DTEND;TZID=Europe/Berlin:20261109T193000
DTSTAMP:20260424T141723
CREATED:20260102T180041Z
LAST-MODIFIED:20260102T182147Z
UID:2054-1794252600-1794252600@schuetzen-schneiderkrug.de
SUMMARY:Tellverbandsitzung
DESCRIPTION:
URL:https://schuetzen-schneiderkrug.de/termin/tellverbandsitzung-2
END:VEVENT
BEGIN:VEVENT
DTSTART;TZID=Europe/Berlin:20261115T000000
DTEND;TZID=Europe/Berlin:20261115T000000
DTSTAMP:20260424T141723
CREATED:20260102T180054Z
LAST-MODIFIED:20260102T182201Z
UID:2056-1794700800-1794700800@schuetzen-schneiderkrug.de
SUMMARY:Volkstrauertag mit Kranzniederlegung u. Frühschoppen
DESCRIPTION:
URL:https://schuetzen-schneiderkrug.de/termin/volkstrauertag-mit-kranzniederlegung-u-fruehschoppen-4
LOCATION:Bühren\, Caspar-Schmitz-Straße 19\, Bühren\, 49685\, Germany
END:VEVENT
BEGIN:VEVENT
DTSTART;TZID=Europe/Berlin:20261115T150000
DTEND;TZID=Europe/Berlin:20261115T150000
DTSTAMP:20260424T141723
CREATED:20260102T180055Z
LAST-MODIFIED:20260102T182201Z
UID:2057-1794754800-1794754800@schuetzen-schneiderkrug.de
SUMMARY:Kranzniederlegung - anschl. Kaffee u. Kuchen
DESCRIPTION:
URL:https://schuetzen-schneiderkrug.de/termin/kranzniederlegung-anschl-kaffee-u-kuchen-4
END:VEVENT
BEGIN:VEVENT
DTSTART;TZID=Europe/Berlin:20261120T190000
DTEND;TZID=Europe/Berlin:20261120T190000
DTSTAMP:20260424T141723
CREATED:20260102T180055Z
LAST-MODIFIED:20260209T120150Z
UID:2058-1795201200-1795201200@schuetzen-schneiderkrug.de
SUMMARY:Gemeindekönigschießen
DESCRIPTION:Getränkedienst: Bühren
URL:https://schuetzen-schneiderkrug.de/termin/gemeindekoenigschiessen-3
END:VEVENT
BEGIN:VEVENT
DTSTART;TZID=Europe/Berlin:20261121T193000
DTEND;TZID=Europe/Berlin:20261121T193000
DTSTAMP:20260424T141723
CREATED:20260102T180055Z
LAST-MODIFIED:20260102T182202Z
UID:2059-1795289400-1795289400@schuetzen-schneiderkrug.de
SUMMARY:Schützenball mit Kohlessen
DESCRIPTION:
URL:https://schuetzen-schneiderkrug.de/termin/schuetzenball-mit-kohlessen-4
LOCATION:Frieling\, Dorfstraße 3\, Bühren\, 49685
END:VEVENT
BEGIN:VEVENT
DTSTART;TZID=Europe/Berlin:20261216T193000
DTEND;TZID=Europe/Berlin:20261216T193000
DTSTAMP:20260424T141723
CREATED:20260102T180109Z
LAST-MODIFIED:20260102T182216Z
UID:2060-1797449400-1797449400@schuetzen-schneiderkrug.de
SUMMARY:Weihnachtsfeier für alle
DESCRIPTION:
URL:https://schuetzen-schneiderkrug.de/termin/weihnachtsfeier-fuer-alle-2
LOCATION:Bühren\, Caspar-Schmitz-Straße 19\, Bühren\, 49685\, Germany
END:VEVENT
BEGIN:VEVENT
DTSTART;TZID=Europe/Berlin:20270124T091500
DTEND;TZID=Europe/Berlin:20270124T091500
DTSTAMP:20260424T141723
CREATED:20260102T180109Z
LAST-MODIFIED:20260209T120124Z
UID:2061-1800782100-1800782100@schuetzen-schneiderkrug.de
SUMMARY:St. Sebastianustag mit Mittagessen
DESCRIPTION:
URL:https://schuetzen-schneiderkrug.de/termin/st-sebastianustag-mit-fruehschoppen-4
END:VEVENT
BEGIN:VEVENT
DTSTART;TZID=Europe/Berlin:20270205T193000
DTEND;TZID=Europe/Berlin:20270205T193000
DTSTAMP:20260424T141723
CREATED:20260102T180110Z
LAST-MODIFIED:20260102T182216Z
UID:2062-1801855800-1801855800@schuetzen-schneiderkrug.de
SUMMARY:Generalversammlung
DESCRIPTION:
URL:https://schuetzen-schneiderkrug.de/termin/generalversammlung-7
LOCATION:Bühren\, Caspar-Schmitz-Straße 19\, Bühren\, 49685\, Germany
END:VEVENT
END:VCALENDAR