BEGIN:VCALENDAR
VERSION:2.0
PRODID:-//St Johannes Schneiderkrug - ECPv6.15.20//NONSGML v1.0//EN
CALSCALE:GREGORIAN
METHOD:PUBLISH
X-ORIGINAL-URL:https://schuetzen-schneiderkrug.de
X-WR-CALDESC:Veranstaltungen für St Johannes Schneiderkrug
REFRESH-INTERVAL;VALUE=DURATION:PT1H
X-Robots-Tag:noindex
X-PUBLISHED-TTL:PT1H
BEGIN:VTIMEZONE
TZID:Europe/Berlin
BEGIN:DAYLIGHT
TZOFFSETFROM:+0100
TZOFFSETTO:+0200
TZNAME:CEST
DTSTART:20250330T010000
END:DAYLIGHT
BEGIN:STANDARD
TZOFFSETFROM:+0200
TZOFFSETTO:+0100
TZNAME:CET
DTSTART:20251026T010000
END:STANDARD
BEGIN:DAYLIGHT
TZOFFSETFROM:+0100
TZOFFSETTO:+0200
TZNAME:CEST
DTSTART:20260329T010000
END:DAYLIGHT
BEGIN:STANDARD
TZOFFSETFROM:+0200
TZOFFSETTO:+0100
TZNAME:CET
DTSTART:20261025T010000
END:STANDARD
BEGIN:DAYLIGHT
TZOFFSETFROM:+0100
TZOFFSETTO:+0200
TZNAME:CEST
DTSTART:20270328T010000
END:DAYLIGHT
BEGIN:STANDARD
TZOFFSETFROM:+0200
TZOFFSETTO:+0100
TZNAME:CET
DTSTART:20271031T010000
END:STANDARD
END:VTIMEZONE
BEGIN:VEVENT
DTSTART;TZID=Europe/Berlin:20260322T140000
DTEND;TZID=Europe/Berlin:20260322T140000
DTSTAMP:20260424T141824
CREATED:20260102T175855Z
LAST-MODIFIED:20260102T182003Z
UID:2023-1774188000-1774188000@schuetzen-schneiderkrug.de
SUMMARY:Gemeinde-Kinderpokal-Königschießen
DESCRIPTION:
URL:https://schuetzen-schneiderkrug.de/termin/gemeinde-kinderpokal-koenigschiessen-2
END:VEVENT
BEGIN:VEVENT
DTSTART;TZID=Europe/Berlin:20260322T000000
DTEND;TZID=Europe/Berlin:20260322T000000
DTSTAMP:20260424T141824
CREATED:20260102T175856Z
LAST-MODIFIED:20260102T182003Z
UID:2024-1774137600-1774137600@schuetzen-schneiderkrug.de
SUMMARY:Bundesvertreterversammlung
DESCRIPTION:
URL:https://schuetzen-schneiderkrug.de/termin/bundesvertreterversammlung-4
END:VEVENT
BEGIN:VEVENT
DTSTART;TZID=Europe/Berlin:20260314T090000
DTEND;TZID=Europe/Berlin:20260314T090000
DTSTAMP:20260424T141824
CREATED:20260102T175855Z
LAST-MODIFIED:20260102T182002Z
UID:2022-1773478800-1773478800@schuetzen-schneiderkrug.de
SUMMARY:gemeindeweiter Umwelttag
DESCRIPTION:
URL:https://schuetzen-schneiderkrug.de/termin/gemeindeweiter-umwelttag-7
END:VEVENT
BEGIN:VEVENT
DTSTART;TZID=Europe/Berlin:20260312T000000
DTEND;TZID=Europe/Berlin:20260316T000000
DTSTAMP:20260424T141824
CREATED:20260102T175855Z
LAST-MODIFIED:20260102T182001Z
UID:2021-1773273600-1773619200@schuetzen-schneiderkrug.de
SUMMARY:Bezirksmeisterschaften VEC
DESCRIPTION:
URL:https://schuetzen-schneiderkrug.de/termin/bezirksmeisterschaften-vec-6
END:VEVENT
BEGIN:VEVENT
DTSTART;TZID=Europe/Berlin:20260308T103000
DTEND;TZID=Europe/Berlin:20260308T103000
DTSTAMP:20260424T141824
CREATED:20260102T175854Z
LAST-MODIFIED:20260102T182001Z
UID:2020-1772965800-1772965800@schuetzen-schneiderkrug.de
SUMMARY:Friedensgottesdienst
DESCRIPTION:
URL:https://schuetzen-schneiderkrug.de/termin/friedensgottesdienst-4
END:VEVENT
BEGIN:VEVENT
DTSTART;TZID=Europe/Berlin:20260228T193000
DTEND;TZID=Europe/Berlin:20260228T193000
DTSTAMP:20260424T141824
CREATED:20260102T175851Z
LAST-MODIFIED:20260102T182000Z
UID:2019-1772307000-1772307000@schuetzen-schneiderkrug.de
SUMMARY:Kompanieball  Drantum mit Kohlessen
DESCRIPTION:
URL:https://schuetzen-schneiderkrug.de/termin/kompanieball-drantum-mit-kohlessen-2
END:VEVENT
BEGIN:VEVENT
DTSTART;TZID=Europe/Berlin:20260222T090000
DTEND;TZID=Europe/Berlin:20260222T090000
DTSTAMP:20260424T141824
CREATED:20260102T175850Z
LAST-MODIFIED:20260102T182000Z
UID:2018-1771750800-1771750800@schuetzen-schneiderkrug.de
SUMMARY:Einkehrtag
DESCRIPTION:
URL:https://schuetzen-schneiderkrug.de/termin/einkehrtag-6
END:VEVENT
BEGIN:VEVENT
DTSTART;TZID=Europe/Berlin:20260221T140000
DTEND;TZID=Europe/Berlin:20260221T140000
DTSTAMP:20260424T141824
CREATED:20260102T175850Z
LAST-MODIFIED:20260102T182000Z
UID:2017-1771682400-1771682400@schuetzen-schneiderkrug.de
SUMMARY:Delegiertenversammlung
DESCRIPTION:
URL:https://schuetzen-schneiderkrug.de/termin/delegiertenversammlung-2
END:VEVENT
BEGIN:VEVENT
DTSTART;TZID=Europe/Berlin:20260209T080000
DTEND;TZID=Europe/Berlin:20260209T170000
DTSTAMP:20260424T141824
CREATED:20260209T114743Z
LAST-MODIFIED:20260209T114743Z
UID:2202-1770624000-1770656400@schuetzen-schneiderkrug.de
SUMMARY:Siegerehrung Vereinsmeisterschaft und Königspokalschießen
DESCRIPTION:
URL:https://schuetzen-schneiderkrug.de/termin/siegerehrung-vereinsmeisterschaft-und-koenigspokalschiessen
LOCATION:Schießhalle\, Caspar-Schmitz-Straße 19\, Bühren\, 49685
END:VEVENT
BEGIN:VEVENT
DTSTART;TZID=Europe/Berlin:20260208T100000
DTEND;TZID=Europe/Berlin:20260208T130000
DTSTAMP:20260424T141824
CREATED:20260128T192052Z
LAST-MODIFIED:20260128T192052Z
UID:2171-1770544800-1770555600@schuetzen-schneiderkrug.de
SUMMARY:Vereinsmeisterschaft - Zusatztermin
DESCRIPTION:Sondertermin für folgende Disziplinen: \n\nKK Olympisch Match 60 Schuss\,\nLuftgewehr 3-Stellungskampf\nKK 3 Stellungskampf
URL:https://schuetzen-schneiderkrug.de/termin/vereinsmeisterschaft-zusatztermin
LOCATION:Schießhalle\, Caspar-Schmitz-Straße 19\, Bühren\, 49685
END:VEVENT
BEGIN:VEVENT
DTSTART;TZID=Europe/Berlin:20260206T193000
DTEND;TZID=Europe/Berlin:20260206T193000
DTSTAMP:20260424T141824
CREATED:20250118T165858Z
LAST-MODIFIED:20260102T181959Z
UID:1574-1770406200-1770406200@schuetzen-schneiderkrug.de
SUMMARY:Generalversammlung
DESCRIPTION:
URL:https://schuetzen-schneiderkrug.de/termin/generalversammlung-6
LOCATION:Schießhalle\, Caspar-Schmitz-Straße 19\, Bühren\, 49685
CATEGORIES:Intern
END:VEVENT
BEGIN:VEVENT
DTSTART;TZID=Europe/Berlin:20260130T193000
DTEND;TZID=Europe/Berlin:20260130T193000
DTSTAMP:20260424T141824
CREATED:20260102T175849Z
LAST-MODIFIED:20260113T181528Z
UID:2015-1769801400-1769801400@schuetzen-schneiderkrug.de
SUMMARY:Vereinsmeisterschaften - 22:00 Uhr
DESCRIPTION:
URL:https://schuetzen-schneiderkrug.de/termin/vereinsmeisterschaften-2200-uhr-16
LOCATION:Schießhalle\, Caspar-Schmitz-Straße 19\, Bühren\, 49685
END:VEVENT
BEGIN:VEVENT
DTSTART;TZID=Europe/Berlin:20260128T193000
DTEND;TZID=Europe/Berlin:20260128T193000
DTSTAMP:20260424T141824
CREATED:20260102T175844Z
LAST-MODIFIED:20260113T181723Z
UID:2014-1769628600-1769628600@schuetzen-schneiderkrug.de
SUMMARY:Vereinsmeisterschaften - 22:00 Uhr
DESCRIPTION:
URL:https://schuetzen-schneiderkrug.de/termin/vereinsmeisterschaften-2200-uhr-15
LOCATION:Schießhalle\, Caspar-Schmitz-Straße 19\, Bühren\, 49685
END:VEVENT
BEGIN:VEVENT
DTSTART;TZID=Europe/Berlin:20260125T091500
DTEND;TZID=Europe/Berlin:20260125T091500
DTSTAMP:20260424T141824
CREATED:20260102T175843Z
LAST-MODIFIED:20260102T181953Z
UID:2013-1769332500-1769332500@schuetzen-schneiderkrug.de
SUMMARY:St. Sebastianustag mit Kranzniederlegung u. Frühschoppen
DESCRIPTION:
URL:https://schuetzen-schneiderkrug.de/termin/st-sebastianustag-mit-kranzniederlegung-u-fruehschoppen
LOCATION:Frieling\, Dorfstraße 3\, Bühren\, 49685
END:VEVENT
BEGIN:VEVENT
DTSTART;TZID=Europe/Berlin:20260125T091500
DTEND;TZID=Europe/Berlin:20260125T091500
DTSTAMP:20260424T141824
CREATED:20250118T164100Z
LAST-MODIFIED:20250118T164100Z
UID:1562-1769332500-1769332500@schuetzen-schneiderkrug.de
SUMMARY:St. Sebastianustag mit Frühschoppen
DESCRIPTION:Frieling
URL:https://schuetzen-schneiderkrug.de/termin/st-sebastianustag-mit-fruehschoppen-3
END:VEVENT
BEGIN:VEVENT
DTSTART;TZID=Europe/Berlin:20260121T193000
DTEND;TZID=Europe/Berlin:20260121T193000
DTSTAMP:20260424T141824
CREATED:20260102T175843Z
LAST-MODIFIED:20260113T181824Z
UID:2012-1769023800-1769023800@schuetzen-schneiderkrug.de
SUMMARY:Vereinsmeisterschaften - 22:00 Uhr
DESCRIPTION:
URL:https://schuetzen-schneiderkrug.de/termin/vereinsmeisterschaften-2200-uhr-14
LOCATION:Schießhalle\, Caspar-Schmitz-Straße 19\, Bühren\, 49685
END:VEVENT
BEGIN:VEVENT
DTSTART;TZID=Europe/Berlin:20260119T193000
DTEND;TZID=Europe/Berlin:20260119T193000
DTSTAMP:20260424T141824
CREATED:20260102T175842Z
LAST-MODIFIED:20260113T181919Z
UID:2011-1768851000-1768851000@schuetzen-schneiderkrug.de
SUMMARY:Vereinsmeisterschaften - 22:00 Uhr
DESCRIPTION: 
URL:https://schuetzen-schneiderkrug.de/termin/vereinsmeisterschaften-2200-uhr-13
LOCATION:Schießhalle\, Caspar-Schmitz-Straße 19\, Bühren\, 49685
END:VEVENT
BEGIN:VEVENT
DTSTART;TZID=Europe/Berlin:20260114T193000
DTEND;TZID=Europe/Berlin:20260114T193000
DTSTAMP:20260424T141824
CREATED:20260102T175826Z
LAST-MODIFIED:20260113T181947Z
UID:2010-1768419000-1768419000@schuetzen-schneiderkrug.de
SUMMARY:Vereinsmeisterschaften - 22:00 Uhr
DESCRIPTION:
URL:https://schuetzen-schneiderkrug.de/termin/vereinsmeisterschaften-2200-uhr-12
LOCATION:Schießhalle\, Caspar-Schmitz-Straße 19\, Bühren\, 49685
END:VEVENT
END:VCALENDAR