BEGIN:VCALENDAR
VERSION:2.0
PRODID:-//St Johannes Schneiderkrug - ECPv6.15.20//NONSGML v1.0//EN
CALSCALE:GREGORIAN
METHOD:PUBLISH
X-ORIGINAL-URL:https://schuetzen-schneiderkrug.de
X-WR-CALDESC:Veranstaltungen für St Johannes Schneiderkrug
REFRESH-INTERVAL;VALUE=DURATION:PT1H
X-Robots-Tag:noindex
X-PUBLISHED-TTL:PT1H
BEGIN:VTIMEZONE
TZID:Europe/Berlin
BEGIN:DAYLIGHT
TZOFFSETFROM:+0100
TZOFFSETTO:+0200
TZNAME:CEST
DTSTART:20250330T010000
END:DAYLIGHT
BEGIN:STANDARD
TZOFFSETFROM:+0200
TZOFFSETTO:+0100
TZNAME:CET
DTSTART:20251026T010000
END:STANDARD
BEGIN:DAYLIGHT
TZOFFSETFROM:+0100
TZOFFSETTO:+0200
TZNAME:CEST
DTSTART:20260329T010000
END:DAYLIGHT
BEGIN:STANDARD
TZOFFSETFROM:+0200
TZOFFSETTO:+0100
TZNAME:CET
DTSTART:20261025T010000
END:STANDARD
BEGIN:DAYLIGHT
TZOFFSETFROM:+0100
TZOFFSETTO:+0200
TZNAME:CEST
DTSTART:20270328T010000
END:DAYLIGHT
BEGIN:STANDARD
TZOFFSETFROM:+0200
TZOFFSETTO:+0100
TZNAME:CET
DTSTART:20271031T010000
END:STANDARD
BEGIN:DAYLIGHT
TZOFFSETFROM:+0100
TZOFFSETTO:+0200
TZNAME:CEST
DTSTART:20280326T010000
END:DAYLIGHT
BEGIN:STANDARD
TZOFFSETFROM:+0200
TZOFFSETTO:+0100
TZNAME:CET
DTSTART:20281029T010000
END:STANDARD
END:VTIMEZONE
BEGIN:VEVENT
DTSTART;TZID=Europe/Berlin:20261120T190000
DTEND;TZID=Europe/Berlin:20261120T190000
DTSTAMP:20260424T180122
CREATED:20260102T180055Z
LAST-MODIFIED:20260209T120150Z
UID:2058-1795201200-1795201200@schuetzen-schneiderkrug.de
SUMMARY:Gemeindekönigschießen
DESCRIPTION:Getränkedienst: Bühren
URL:https://schuetzen-schneiderkrug.de/termin/gemeindekoenigschiessen-3
END:VEVENT
BEGIN:VEVENT
DTSTART;TZID=Europe/Berlin:20261121T193000
DTEND;TZID=Europe/Berlin:20261121T193000
DTSTAMP:20260424T180122
CREATED:20260102T180055Z
LAST-MODIFIED:20260102T182202Z
UID:2059-1795289400-1795289400@schuetzen-schneiderkrug.de
SUMMARY:Schützenball mit Kohlessen
DESCRIPTION:
URL:https://schuetzen-schneiderkrug.de/termin/schuetzenball-mit-kohlessen-4
LOCATION:Frieling\, Dorfstraße 3\, Bühren\, 49685
END:VEVENT
BEGIN:VEVENT
DTSTART;TZID=Europe/Berlin:20261216T193000
DTEND;TZID=Europe/Berlin:20261216T193000
DTSTAMP:20260424T180122
CREATED:20260102T180109Z
LAST-MODIFIED:20260102T182216Z
UID:2060-1797449400-1797449400@schuetzen-schneiderkrug.de
SUMMARY:Weihnachtsfeier für alle
DESCRIPTION:
URL:https://schuetzen-schneiderkrug.de/termin/weihnachtsfeier-fuer-alle-2
LOCATION:Bühren\, Caspar-Schmitz-Straße 19\, Bühren\, 49685\, Germany
END:VEVENT
BEGIN:VEVENT
DTSTART;TZID=Europe/Berlin:20270124T091500
DTEND;TZID=Europe/Berlin:20270124T091500
DTSTAMP:20260424T180122
CREATED:20260102T180109Z
LAST-MODIFIED:20260209T120124Z
UID:2061-1800782100-1800782100@schuetzen-schneiderkrug.de
SUMMARY:St. Sebastianustag mit Mittagessen
DESCRIPTION:
URL:https://schuetzen-schneiderkrug.de/termin/st-sebastianustag-mit-fruehschoppen-4
END:VEVENT
BEGIN:VEVENT
DTSTART;TZID=Europe/Berlin:20270205T193000
DTEND;TZID=Europe/Berlin:20270205T193000
DTSTAMP:20260424T180122
CREATED:20260102T180110Z
LAST-MODIFIED:20260102T182216Z
UID:2062-1801855800-1801855800@schuetzen-schneiderkrug.de
SUMMARY:Generalversammlung
DESCRIPTION:
URL:https://schuetzen-schneiderkrug.de/termin/generalversammlung-7
LOCATION:Bühren\, Caspar-Schmitz-Straße 19\, Bühren\, 49685\, Germany
END:VEVENT
END:VCALENDAR